BEGIN:VCALENDAR
VERSION:2.0
PRODID:-//ChamberMaster//Event Calendar 2.0//EN
METHOD:PUBLISH
X-PUBLISHED-TTL:P3D
REFRESH-INTERVAL:P3D
CALSCALE:GREGORIAN
BEGIN:VEVENT
DTSTART;VALUE=DATE:20250607
DTEND;VALUE=DATE:20250608
TRANSP:TRANSPARENT
X-MICROSOFT-CDO-ALLDAYEVENT:TRUE
SUMMARY:Brews\, Bourbon & BBQ
DESCRIPTION:The 6th annual North Canton Craft Beer Festival will rebrand into the North Canton Brews\, Bourbon & BBQ Festival featuring breweries and distillers from Stark County and the surrounding areas. Guests will have the opportunity to sample a wide variety of beverages and will vote for a winner to be crowned best in show all while enjoying music\, vendors and food.\n\n\n\nExpected Attendance: 1000 +\n\n2023 Media Insights: reached 24\,556 with 1\,320 total engagements
X-ALT-DESC;FMTTYPE=text/html:<p class="p1" style="margin: 0px\; font-variant-numeric: normal\; font-variant-east-asian: normal\; font-variant-alternates: normal\; font-size-adjust: none\; font-kerning: auto\; font-optical-sizing: auto\; font-feature-settings: normal\; font-variation-settings: normal\; font-variant-position: normal\; font-variant-emoji: normal\; font-stretch: normal\; font-size: 12px\; line-height: normal\; font-family: Helvetica\; color: rgb(0\, 0\, 0)\;"><span style="font-size:18px\;">The 6th annual North Canton Craft Beer Festival will rebrand into the North Canton Brews\, Bourbon &amp\; BBQ Festival featuring breweries and distillers from Stark County and the surrounding areas. Guests will have the opportunity to sample a wide variety of beverages and will vote for a winner to be crowned best in show all while enjoying music\, vendors and food.</span><br />\n<br />\n<span style="font-size:18px\;"><strong>Expected Attendance</strong>: 1000 +</span></p>\n\n<p class="p1" style="margin: 0px\; font-variant-numeric: normal\; font-variant-east-asian: normal\; font-variant-alternates: normal\; font-size-adjust: none\; font-kerning: auto\; font-optical-sizing: auto\; font-feature-settings: normal\; font-variation-settings: normal\; font-variant-position: normal\; font-variant-emoji: normal\; font-stretch: normal\; font-size: 12px\; line-height: normal\; font-family: Helvetica\; color: rgb(0\, 0\, 0)\;"><span style="font-size:18px\;"><strong>2023 Media Insights</strong>: reached 24\,556 with 1\,320 total engagements</span></p>\n
LOCATION:MAPS Air Museum
UID:e.429.4654
SEQUENCE:3
DTSTAMP:20260424T174553Z
URL:https://directory.northcantonchamber.org/events/details/brews-bourbon-bbq-4654
END:VEVENT

END:VCALENDAR
