BEGIN:VCALENDAR
VERSION:2.0
PRODID:-//ChamberMaster//Event Calendar 2.0//EN
METHOD:PUBLISH
X-PUBLISHED-TTL:P3D
REFRESH-INTERVAL:P3D
CALSCALE:GREGORIAN
BEGIN:VEVENT
DTSTART;VALUE=DATE:20250202
DTEND;VALUE=DATE:20250203
TRANSP:TRANSPARENT
X-MICROSOFT-CDO-ALLDAYEVENT:TRUE
SUMMARY:Slice - A - Palooza
DESCRIPTION:The North Canton Chamber of Commerce in partnership with North Canton City Schools is thrilled to present our inaugural Slice - A - Palooza\, taking place on February 2nd from 12 p.m. to 4 p.m. at Hoover High School! Join us for a unique culinary adventure featuring 20 regional pizza shops and local creameries\, all under one roof.\n\nExpected Attendance: 1000-2500\n\n\n\nRegistration: https://ticketscandy.com/e/2025-pizza-palooza-7254
X-ALT-DESC;FMTTYPE=text/html:<p class="p1" style="margin: 0px\; font-variant-numeric: normal\; font-variant-east-asian: normal\; font-variant-alternates: normal\; font-size-adjust: none\; font-kerning: auto\; font-optical-sizing: auto\; font-feature-settings: normal\; font-variation-settings: normal\; font-variant-position: normal\; font-variant-emoji: normal\; font-stretch: normal\; font-size: 12px\; line-height: normal\; font-family: Helvetica\; color: rgb(0\, 0\, 0)\;"><span style="font-size:18px\;">The North Canton Chamber of Commerce in partnership with North Canton City Schools is thrilled to present our inaugural Slice - A -</span><span style="font-size:18px\;">&nbsp\;Palooza\, taking place on February 2nd from 12 p.m. to 4 p.m. at Hoover High School! Join us for a unique culinary adventure featuring 20 regional pizza shops and local creameries\, all under one roof.</span><br />\n<span style="font-size:16px\;"><strong>Expected Attendance</strong>: 1000-2500<br />\n<br />\n<strong>Registration:&nbsp\;</strong></span><a href="https://ticketscandy.com/e/2025-pizza-palooza-7254">https://ticketscandy.com/e/2025-pizza-palooza-7254</a></p>\n
LOCATION:Hoover High School
UID:e.429.4657
SEQUENCE:3
DTSTAMP:20260424T191138Z
URL:https://directory.northcantonchamber.org/events/details/slice-a-palooza-4657
END:VEVENT

END:VCALENDAR
