BEGIN:VCALENDAR
VERSION:2.0
PRODID:-//ChamberMaster//Event Calendar 2.0//EN
METHOD:PUBLISH
X-PUBLISHED-TTL:P3D
REFRESH-INTERVAL:P3D
CALSCALE:GREGORIAN
BEGIN:VEVENT
DTSTART:20250417T213000Z
DTEND:20250417T233000Z
X-MICROSOFT-CDO-ALLDAYEVENT:FALSE
SUMMARY:Social Summit
DESCRIPTION:Want to level up your social media\, extend your network and increase your business?  This event is for you!!  Join us for cocktails and appetizers at Gervasi with a panel of local individuals who have utilized various social media platforms to grow their followings and their business!  You'll leave with some great ideas and actionable steps!!
X-ALT-DESC;FMTTYPE=text/html:Want to level up your social media\, extend your network and increase your business? &nbsp\;This event is for you!! &nbsp\;Join us for cocktails and appetizers at Gervasi with a panel of local individuals who have utilized various social media platforms to grow their followings and their business! &nbsp\;You&#39\;ll leave with some great ideas and actionable steps!!&nbsp\;
LOCATION:Gervasi Vineyard- Villa Grande 1700 55th St NE Canton\, OH 44721
UID:e.429.4917
SEQUENCE:3
DTSTAMP:20260424T124336Z
URL:https://directory.northcantonchamber.org/events/details/social-summit-4917
END:VEVENT

END:VCALENDAR
